BEGIN:VCALENDAR
VERSION:2.0
PRODID:-//Newbold Astbury cum Moreton Parish Council//Meeting Calendar//EN
CALSCALE:GREGORIAN
METHOD:PUBLISH
BEGIN:VEVENT
UID:72417-20260408@astbury-moreton-pc.gov.uk
DTSTAMP:20260422T084341Z
DTSTART;VALUE=DATE:20260408
DTEND;VALUE=DATE:20260409
SUMMARY:Parish Council &#8211\\; 8th April 2026
DESCRIPTION:Full Parish Council Meeting\nView details: https://astbury-moreton-pc.gov.uk/meetings/parish-council-8th-april-2026-2/
URL:https://astbury-moreton-pc.gov.uk/meetings/parish-council-8th-april-2026-2/
END:VEVENT
END:VCALENDAR
