BEGIN:VCALENDAR
VERSION:2.0
PRODID:-//Newbold Astbury cum Moreton Parish Council//Meeting Calendar//EN
CALSCALE:GREGORIAN
METHOD:PUBLISH
BEGIN:VEVENT
UID:72378-20260812@astbury-moreton-pc.gov.uk
DTSTAMP:20260422T103739Z
DTSTART;VALUE=DATE:20260812
DTEND;VALUE=DATE:20260813
SUMMARY:Parish Council &#8211\\; 12th August 2026
DESCRIPTION:Full Parish Council Meeting\nView details: https://astbury-moreton-pc.gov.uk/meetings/parish-council-12th-august-2026/
URL:https://astbury-moreton-pc.gov.uk/meetings/parish-council-12th-august-2026/
END:VEVENT
END:VCALENDAR
