BEGIN:VCALENDAR
VERSION:2.0
PRODID:-//Newbold Astbury cum Moreton Parish Council//Meeting Calendar//EN
CALSCALE:GREGORIAN
METHOD:PUBLISH
BEGIN:VEVENT
UID:72376-20260610@astbury-moreton-pc.gov.uk
DTSTAMP:20260421T133700Z
DTSTART;VALUE=DATE:20260610
DTEND;VALUE=DATE:20260611
SUMMARY:Parish Council &#8211\\; 10th June 2026
DESCRIPTION:Full Parish Council Meeting\nView details: https://astbury-moreton-pc.gov.uk/meetings/parish-council-10th-june-2026/
URL:https://astbury-moreton-pc.gov.uk/meetings/parish-council-10th-june-2026/
END:VEVENT
END:VCALENDAR
