BEGIN:VCALENDAR
VERSION:2.0
PRODID:-//Newbold Astbury cum Moreton Parish Council//Meeting Calendar//EN
CALSCALE:GREGORIAN
METHOD:PUBLISH
BEGIN:VEVENT
UID:72375-20260513@astbury-moreton-pc.gov.uk
DTSTAMP:20260421T133418Z
DTSTART;VALUE=DATE:20260513
DTEND;VALUE=DATE:20260514
SUMMARY:Parish Council &#8211\\; 13th May 2026
DESCRIPTION:Full Parish Council Meeting\nView details: https://astbury-moreton-pc.gov.uk/meetings/parish-council-13th-may-2026/
URL:https://astbury-moreton-pc.gov.uk/meetings/parish-council-13th-may-2026/
END:VEVENT
END:VCALENDAR
