BEGIN:VCALENDAR
VERSION:2.0
PRODID:-//Newbold Astbury cum Moreton Parish Council//Meeting Calendar//EN
CALSCALE:GREGORIAN
METHOD:PUBLISH
BEGIN:VEVENT
UID:72373-20260311@astbury-moreton-pc.gov.uk
DTSTAMP:20260421T162529Z
DTSTART;VALUE=DATE:20260311
DTEND;VALUE=DATE:20260312
SUMMARY:Parish Council &#8211\\; 11th March
DESCRIPTION:Full Parish Council Meeting\nView details: https://astbury-moreton-pc.gov.uk/meetings/parish-council-meeting-11th-march/
URL:https://astbury-moreton-pc.gov.uk/meetings/parish-council-meeting-11th-march/
END:VEVENT
END:VCALENDAR
