BEGIN:VCALENDAR
VERSION:2.0
PRODID:-//Newbold Astbury cum Moreton Parish Council//Meeting Calendar//EN
CALSCALE:GREGORIAN
METHOD:PUBLISH
BEGIN:VEVENT
UID:72371-20260114@astbury-moreton-pc.gov.uk
DTSTAMP:20260422T104909Z
DTSTART;VALUE=DATE:20260114
DTEND;VALUE=DATE:20260115
SUMMARY:Parish Council &#8211\\; 14th January 2026
DESCRIPTION:Full Parish Council Meeting\nView details: https://astbury-moreton-pc.gov.uk/meetings/parish-council-14th-january-2026/
URL:https://astbury-moreton-pc.gov.uk/meetings/parish-council-14th-january-2026/
END:VEVENT
END:VCALENDAR
