BEGIN:VCALENDAR
VERSION:2.0
PRODID:-//Newbold Astbury cum Moreton Parish Council//Meeting Calendar//EN
CALSCALE:GREGORIAN
METHOD:PUBLISH
BEGIN:VEVENT
UID:72121-20251008@astbury-moreton-pc.gov.uk
DTSTAMP:20260422T103642Z
DTSTART;VALUE=DATE:20251008
DTEND;VALUE=DATE:20251009
SUMMARY:Parish Council Meeting &#8211\\; 8th October 2025
DESCRIPTION:Full Parish Council Meeting\nView details: https://astbury-moreton-pc.gov.uk/meetings/parish-council-meeting-8th-october-2025/
URL:https://astbury-moreton-pc.gov.uk/meetings/parish-council-meeting-8th-october-2025/
END:VEVENT
END:VCALENDAR
