BEGIN:VCALENDAR
VERSION:2.0
PRODID:-//Newbold Astbury cum Moreton Parish Council//Meeting Calendar//EN
CALSCALE:GREGORIAN
METHOD:PUBLISH
BEGIN:VEVENT
UID:72120-20250910@astbury-moreton-pc.gov.uk
DTSTAMP:20260422T122749Z
DTSTART;VALUE=DATE:20250910
DTEND;VALUE=DATE:20250911
SUMMARY:Parish Council Meeting &#8211\\; 10th September 2025
DESCRIPTION:Full Parish Council Meeting\nView details: https://astbury-moreton-pc.gov.uk/meetings/parish-council-meeting-10th-september-2025/
URL:https://astbury-moreton-pc.gov.uk/meetings/parish-council-meeting-10th-september-2025/
END:VEVENT
END:VCALENDAR
