BEGIN:VCALENDAR
VERSION:2.0
PRODID:-//Newbold Astbury cum Moreton Parish Council//Meeting Calendar//EN
CALSCALE:GREGORIAN
METHOD:PUBLISH
BEGIN:VEVENT
UID:71687-20210512@astbury-moreton-pc.gov.uk
DTSTAMP:20260420T131641Z
DTSTART;VALUE=DATE:20210512
DTEND;VALUE=DATE:20210513
SUMMARY:Annual Parish Council &#8211\\; 12th May 2021
DESCRIPTION:Annual Parish Council Meeting\nView details: https://astbury-moreton-pc.gov.uk/meetings/annual-parish-council-12th-may-2021/
URL:https://astbury-moreton-pc.gov.uk/meetings/annual-parish-council-12th-may-2021/
END:VEVENT
END:VCALENDAR
