BEGIN:VCALENDAR
VERSION:2.0
PRODID:-//Newbold Astbury cum Moreton Parish Council//Meeting Calendar//EN
CALSCALE:GREGORIAN
METHOD:PUBLISH
BEGIN:VEVENT
UID:71346-20210414@astbury-moreton-pc.gov.uk
DTSTAMP:20260419T132611Z
DTSTART;VALUE=DATE:20210414
DTEND;VALUE=DATE:20210415
SUMMARY:Council Meeting &#8211\\; 14th April 2021
DESCRIPTION:Full Parish Council Meeting\nView details: https://astbury-moreton-pc.gov.uk/meetings/council-meeting-14th-april-2021/
URL:https://astbury-moreton-pc.gov.uk/meetings/council-meeting-14th-april-2021/
END:VEVENT
END:VCALENDAR
