BEGIN:VCALENDAR
VERSION:2.0
PRODID:-//Newbold Astbury cum Moreton Parish Council//Meeting Calendar//EN
CALSCALE:GREGORIAN
METHOD:PUBLISH
BEGIN:VEVENT
UID:71334-20200909@astbury-moreton-pc.gov.uk
DTSTAMP:20260421T084652Z
DTSTART;VALUE=DATE:20200909
DTEND;VALUE=DATE:20200910
SUMMARY:Council Meeting &#8211\\; 9th September 2020
DESCRIPTION:Full Parish Council Meeting\nView details: https://astbury-moreton-pc.gov.uk/meetings/council-meeting-9th-september-2020/
URL:https://astbury-moreton-pc.gov.uk/meetings/council-meeting-9th-september-2020/
END:VEVENT
END:VCALENDAR
