BEGIN:VCALENDAR
VERSION:2.0
PRODID:-//Newbold Astbury cum Moreton Parish Council//Meeting Calendar//EN
CALSCALE:GREGORIAN
METHOD:PUBLISH
BEGIN:VEVENT
UID:71302-20190313@astbury-moreton-pc.gov.uk
DTSTAMP:20260421T195905Z
DTSTART;VALUE=DATE:20190313
DTEND;VALUE=DATE:20190314
SUMMARY:Council Meeting &#8211\\; 13th March 2019
DESCRIPTION:Full Parish Council Meeting\nView details: https://astbury-moreton-pc.gov.uk/meetings/council-meeting-13th-march-2019/
URL:https://astbury-moreton-pc.gov.uk/meetings/council-meeting-13th-march-2019/
END:VEVENT
END:VCALENDAR
