BEGIN:VCALENDAR
VERSION:2.0
PRODID:-//Newbold Astbury cum Moreton Parish Council//Meeting Calendar//EN
CALSCALE:GREGORIAN
METHOD:PUBLISH
BEGIN:VEVENT
UID:71300-20190213@astbury-moreton-pc.gov.uk
DTSTAMP:20260421T181741Z
DTSTART;VALUE=DATE:20190213
DTEND;VALUE=DATE:20190214
SUMMARY:Council Meeting &#8211\\; 13th February 2019
DESCRIPTION:Full Parish Council Meeting\nView details: https://astbury-moreton-pc.gov.uk/meetings/council-meeting-13th-february-2019/
URL:https://astbury-moreton-pc.gov.uk/meetings/council-meeting-13th-february-2019/
END:VEVENT
END:VCALENDAR
